BEGIN:VCALENDAR
VERSION:2.0
PRODID:-//Bairisch-Alpenländischer Volksmusikverein e.V. - ECPv6.15.20//NONSGML v1.0//EN
CALSCALE:GREGORIAN
METHOD:PUBLISH
X-ORIGINAL-URL:https://volksmusikverein.com
X-WR-CALDESC:Veranstaltungen für Bairisch-Alpenländischer Volksmusikverein e.V.
REFRESH-INTERVAL;VALUE=DURATION:PT1H
X-Robots-Tag:noindex
X-PUBLISHED-TTL:PT1H
BEGIN:VTIMEZONE
TZID:Europe/Berlin
BEGIN:DAYLIGHT
TZOFFSETFROM:+0100
TZOFFSETTO:+0200
TZNAME:CEST
DTSTART:20210328T010000
END:DAYLIGHT
BEGIN:STANDARD
TZOFFSETFROM:+0200
TZOFFSETTO:+0100
TZNAME:CET
DTSTART:20211031T010000
END:STANDARD
BEGIN:DAYLIGHT
TZOFFSETFROM:+0100
TZOFFSETTO:+0200
TZNAME:CEST
DTSTART:20220327T010000
END:DAYLIGHT
BEGIN:STANDARD
TZOFFSETFROM:+0200
TZOFFSETTO:+0100
TZNAME:CET
DTSTART:20221030T010000
END:STANDARD
BEGIN:DAYLIGHT
TZOFFSETFROM:+0100
TZOFFSETTO:+0200
TZNAME:CEST
DTSTART:20230326T010000
END:DAYLIGHT
BEGIN:STANDARD
TZOFFSETFROM:+0200
TZOFFSETTO:+0100
TZNAME:CET
DTSTART:20231029T010000
END:STANDARD
END:VTIMEZONE
BEGIN:VEVENT
DTSTART;TZID=Europe/Berlin:20221022T200000
DTEND;TZID=Europe/Berlin:20221022T200000
DTSTAMP:20260424T135922
CREATED:20220530T053204Z
LAST-MODIFIED:20220530T053230Z
UID:2655-1666468800-1666468800@volksmusikverein.com
SUMMARY:CD-Vorstellung  Röpfl Geigenmusi\, Röpfl Familiengsang\, Lisi Röpfl - Harfe
DESCRIPTION:CD Vorstellung Röpfl Geigenmusi\, Röpfl Familiengsang\, Lisi Röpfl -Harfe  \nHans und Maria Auer\,  Stoaberg Sängerinnen\,  Agatharieder Tanzlmusi \nSprecher Andreas Estner \nfindet statt im Trachtenheim Irschenberg \n83737 Irschenberg\, Sportplatz 3 \nAnmeldung bis 29.05.2022 \nKarten Vorverkauf 16 € an der Abendkasse 18 € \nEinlass um 18:30 \n 
URL:https://volksmusikverein.com/event/cd-vorstellung-roepfl-geigenmusi-roepfl-familiengsang-lisi-roepfl-harfe/
ORGANIZER;CN="R%C3%B6pfl Geigenmusi":MAILTO:martina.roepfl@online.de
END:VEVENT
END:VCALENDAR