BEGIN:VCALENDAR
VERSION:2.0
PRODID:-//Bairisch-Alpenländischer Volksmusikverein e.V. - ECPv6.15.20//NONSGML v1.0//EN
CALSCALE:GREGORIAN
METHOD:PUBLISH
X-ORIGINAL-URL:https://volksmusikverein.com
X-WR-CALDESC:Veranstaltungen für Bairisch-Alpenländischer Volksmusikverein e.V.
REFRESH-INTERVAL;VALUE=DURATION:PT1H
X-Robots-Tag:noindex
X-PUBLISHED-TTL:PT1H
BEGIN:VTIMEZONE
TZID:Europe/Berlin
BEGIN:DAYLIGHT
TZOFFSETFROM:+0100
TZOFFSETTO:+0200
TZNAME:CEST
DTSTART:20210328T010000
END:DAYLIGHT
BEGIN:STANDARD
TZOFFSETFROM:+0200
TZOFFSETTO:+0100
TZNAME:CET
DTSTART:20211031T010000
END:STANDARD
BEGIN:DAYLIGHT
TZOFFSETFROM:+0100
TZOFFSETTO:+0200
TZNAME:CEST
DTSTART:20220327T010000
END:DAYLIGHT
BEGIN:STANDARD
TZOFFSETFROM:+0200
TZOFFSETTO:+0100
TZNAME:CET
DTSTART:20221030T010000
END:STANDARD
BEGIN:DAYLIGHT
TZOFFSETFROM:+0100
TZOFFSETTO:+0200
TZNAME:CEST
DTSTART:20230326T010000
END:DAYLIGHT
BEGIN:STANDARD
TZOFFSETFROM:+0200
TZOFFSETTO:+0100
TZNAME:CET
DTSTART:20231029T010000
END:STANDARD
END:VTIMEZONE
BEGIN:VEVENT
DTSTART;TZID=Europe/Berlin:20221218T160000
DTEND;TZID=Europe/Berlin:20221218T160000
DTSTAMP:20260423T141229
CREATED:20220704T205746Z
LAST-MODIFIED:20220704T211641Z
UID:2739-1671379200-1671379200@volksmusikverein.com
SUMMARY:"Heilige Nacht" von Ludwig Thoma
DESCRIPTION:Im Warngauer Altwirtsanwesen großer Saal. \nMit Sagschneider Dreigesang und Franz Öttl an der Zither \nSprecher: Klaus Wittmann \n  \n83627 Warngau Altwirt
URL:https://volksmusikverein.com/event/heilige-nacht-von-ludwig-thoma-5/
ORGANIZER;CN="Klaus Wittmann":MAILTO:wittmann.toelz@t-online.de
END:VEVENT
END:VCALENDAR