BEGIN:VCALENDAR
VERSION:2.0
PRODID:-//Bairisch-Alpenländischer Volksmusikverein e.V. - ECPv6.15.20//NONSGML v1.0//EN
CALSCALE:GREGORIAN
METHOD:PUBLISH
X-ORIGINAL-URL:https://volksmusikverein.com
X-WR-CALDESC:Veranstaltungen für Bairisch-Alpenländischer Volksmusikverein e.V.
REFRESH-INTERVAL;VALUE=DURATION:PT1H
X-Robots-Tag:noindex
X-PUBLISHED-TTL:PT1H
BEGIN:VTIMEZONE
TZID:Europe/Berlin
BEGIN:DAYLIGHT
TZOFFSETFROM:+0100
TZOFFSETTO:+0200
TZNAME:CEST
DTSTART:20230326T010000
END:DAYLIGHT
BEGIN:STANDARD
TZOFFSETFROM:+0200
TZOFFSETTO:+0100
TZNAME:CET
DTSTART:20231029T010000
END:STANDARD
BEGIN:DAYLIGHT
TZOFFSETFROM:+0100
TZOFFSETTO:+0200
TZNAME:CEST
DTSTART:20240331T010000
END:DAYLIGHT
BEGIN:STANDARD
TZOFFSETFROM:+0200
TZOFFSETTO:+0100
TZNAME:CET
DTSTART:20241027T010000
END:STANDARD
BEGIN:DAYLIGHT
TZOFFSETFROM:+0100
TZOFFSETTO:+0200
TZNAME:CEST
DTSTART:20250330T010000
END:DAYLIGHT
BEGIN:STANDARD
TZOFFSETFROM:+0200
TZOFFSETTO:+0100
TZNAME:CET
DTSTART:20251026T010000
END:STANDARD
END:VTIMEZONE
BEGIN:VEVENT
DTSTART;TZID=Europe/Berlin:20240901T130000
DTEND;TZID=Europe/Berlin:20240901T150000
DTSTAMP:20260426T062754
CREATED:20240828T163010Z
LAST-MODIFIED:20240828T163017Z
UID:3300-1725195600-1725202800@volksmusikverein.com
SUMMARY:Volksmusiksendung des Bairisch Alpenländischen Volksmusikvereins
DESCRIPTION:Am 1. September 2024 von 13 – 15 Uhr auf Radio Alpenwelle aus dem Sendestudio in Bad Tölz. \nModeriert von Siegi Götze mit einem Beitrag über das vom Bairisch-Alpenländischen Volksmusikvereins in Neuauflage präsentierte Dialektwörterverzeichnis von Bertl Witter. \nVon „A“ wie abbrocka bis „Z“ wie zwider\, unter die Lupe genommen von Siegi Götze\, mit passenden wohlklingenden Liedbeiträgen. Auch der besungene „rote Grantenplatz“ wird dann von manchem leicht zu finden sein. \nSchaltet´s ein und losts zua.
URL:https://volksmusikverein.com/event/volksmusiksendung-des-bairisch-alpenlaendischen-volksmusikvereins/
END:VEVENT
END:VCALENDAR